BEGIN:VCALENDAR
VERSION:2.0
PRODID:-//Guardian Defense Plan - ECPv6.15.18//NONSGML v1.0//EN
CALSCALE:GREGORIAN
METHOD:PUBLISH
X-ORIGINAL-URL:https://guardiandefenseplan.com
X-WR-CALDESC:Events for Guardian Defense Plan
REFRESH-INTERVAL;VALUE=DURATION:PT1H
X-Robots-Tag:noindex
X-PUBLISHED-TTL:PT1H
BEGIN:VTIMEZONE
TZID:UTC
BEGIN:STANDARD
TZOFFSETFROM:+0000
TZOFFSETTO:+0000
TZNAME:UTC
DTSTART:20240101T000000
END:STANDARD
END:VTIMEZONE
BEGIN:VEVENT
DTSTART;TZID=UTC:20250609T130000
DTEND;TZID=UTC:20250609T143000
DTSTAMP:20260421T201310
CREATED:20250827T133635Z
LAST-MODIFIED:20250827T133635Z
UID:13592-1749474000-1749479400@guardiandefenseplan.com
SUMMARY:Active Threat Response Program for Schools (ATRPS)- Tamarac Summer Camp Staff
DESCRIPTION:The Active Threat Response Program for Schools (ATRPS) session will be implemented to the summer camp staff at City of Tamarac. \n>>CLOSED EVENT<<
URL:https://guardiandefenseplan.com/event/active-threat-response-program-for-schools-atrps-tamarac-summer-camp-staff-4/
LOCATION:City Hall\, Tamarac\, FL
END:VEVENT
END:VCALENDAR