BEGIN:VCALENDAR
VERSION:2.0
PRODID:-//Guardian Defense Plan - ECPv6.15.18//NONSGML v1.0//EN
CALSCALE:GREGORIAN
METHOD:PUBLISH
X-WR-CALNAME:Guardian Defense Plan
X-ORIGINAL-URL:https://guardiandefenseplan.com
X-WR-CALDESC:Events for Guardian Defense Plan
REFRESH-INTERVAL;VALUE=DURATION:PT1H
X-Robots-Tag:noindex
X-PUBLISHED-TTL:PT1H
BEGIN:VTIMEZONE
TZID:UTC
BEGIN:STANDARD
TZOFFSETFROM:+0000
TZOFFSETTO:+0000
TZNAME:UTC
DTSTART:20200101T000000
END:STANDARD
END:VTIMEZONE
BEGIN:VEVENT
DTSTART;TZID=UTC:20220317T081500
DTEND;TZID=UTC:20220317T154500
DTSTAMP:20260421T124241
CREATED:20250827T133019Z
LAST-MODIFIED:20250827T133019Z
UID:13479-1647504900-1647531900@guardiandefenseplan.com
SUMMARY:Active Threat Response Program (ATRP): Full-Day Refresher- Junior Achievement of South Florida
DESCRIPTION:The full-day refresher Active Threat Response Program (ATRP) will be implemented to the staff at Junior Achievement of South Florida. \n>>CLOSED EVENT<<
URL:https://guardiandefenseplan.com/event/active-threat-response-program-atrp-full-day-refresher-junior-achievement-of-south-florida-3/
LOCATION:Junior Achievement of South Florida\, Coconut Creek\, FL
END:VEVENT
BEGIN:VEVENT
DTSTART;TZID=UTC:20220309T120000
DTEND;TZID=UTC:20220309T133000
DTSTAMP:20260421T124241
CREATED:20250827T133048Z
LAST-MODIFIED:20250827T133048Z
UID:13496-1646827200-1646832600@guardiandefenseplan.com
SUMMARY:ACTIVE THREAT RESPONSE PROGRAM FOR BUSINESSES- CITY OF SACRAMENTO
DESCRIPTION:Session 4 of 4: \nGuardian Defense President\, Steven S. Smith\, will be presenting the Active Threat Response Program for Businesses to businesses within the City of Sacramento\, California. \nRegistration link will be available on City of Sacramento’s official website and Eventbrite: https://www.eventbrite.com/x/active-shooter-situational-awareness-for-communities-tickets-255537769347. \nAttendance capped at 1\,000 attendees per session.
URL:https://guardiandefenseplan.com/event/active-threat-response-program-for-businesses-city-of-sacramento-4/
LOCATION:City of Sacramento\, CA (Webinar)
END:VEVENT
BEGIN:VEVENT
DTSTART;TZID=UTC:20220309T090000
DTEND;TZID=UTC:20220309T103000
DTSTAMP:20260421T124241
CREATED:20250827T133048Z
LAST-MODIFIED:20250827T133048Z
UID:13495-1646816400-1646821800@guardiandefenseplan.com
SUMMARY:ACTIVE THREAT RESPONSE PROGRAM FOR BUSINESSES- CITY OF SACRAMENTO
DESCRIPTION:Session 3 of 4: \nGuardian Defense President\, Steven S. Smith\, will be presenting the Active Threat Response Program for Businesses to businesses within the City of Sacramento\, California. \nRegistration link will be available on City of Sacramento’s official website and Eventbrite: https://www.eventbrite.com/x/active-shooter-situational-awareness-for-communities-tickets-255544238697. \nAttendance capped at 1\,000 attendees per session.
URL:https://guardiandefenseplan.com/event/active-threat-response-program-for-businesses-city-of-sacramento-3/
LOCATION:City of Sacramento\, CA (Webinar)
END:VEVENT
BEGIN:VEVENT
DTSTART;TZID=UTC:20220307T120000
DTEND;TZID=UTC:20220307T133000
DTSTAMP:20260421T124241
CREATED:20250827T133047Z
LAST-MODIFIED:20250827T133047Z
UID:13494-1646654400-1646659800@guardiandefenseplan.com
SUMMARY:ACTIVE THREAT RESPONSE PROGRAM FOR BUSINESSES- CITY OF SACRAMENTO
DESCRIPTION:Session 2 of 4: \nGuardian Defense President\, Steven S. Smith\, will be presenting the Active Threat Response Program for Businesses to businesses within the City of Sacramento\, California. \nRegistration link will be available on City of Sacramento’s official website and Eventbrite:https://www.eventbrite.com/x/active-shooter-situational-awareness-for-communities-tickets-255533305997. \nAttendance capped at 1\,000 attendees per session.
URL:https://guardiandefenseplan.com/event/active-threat-response-program-for-businesses-city-of-sacramento-2/
LOCATION:City of Sacramento\, CA (Webinar)
END:VEVENT
BEGIN:VEVENT
DTSTART;TZID=UTC:20220307T090000
DTEND;TZID=UTC:20220307T103000
DTSTAMP:20260421T124241
CREATED:20250827T133047Z
LAST-MODIFIED:20250827T133047Z
UID:13493-1646643600-1646649000@guardiandefenseplan.com
SUMMARY:Active Threat Response Program for Businesses- City of Sacramento
DESCRIPTION:Session 1 of 4: \nGuardian Defense President\, Steven S. Smith\, will be presenting the Active Threat Response Program for Businesses to businesses within the City of Sacramento\, California. \nRegistration link will be available on City of Sacramento’s official website and Eventbrite: https://www.eventbrite.com/x/active-shooter-situational-awareness-for-communities-tickets-255515432537. \nAttendance capped at 1\,000 attendees per session.
URL:https://guardiandefenseplan.com/event/active-threat-response-program-for-businesses-city-of-sacramento/
LOCATION:City of Sacramento\, CA (Webinar)
END:VEVENT
BEGIN:VEVENT
DTSTART;TZID=UTC:20220303T094000
DTEND;TZID=UTC:20220303T101000
DTSTAMP:20260421T124241
CREATED:20250827T133059Z
LAST-MODIFIED:20250827T133059Z
UID:13498-1646300400-1646302200@guardiandefenseplan.com
SUMMARY:Active Threat Response Program for Schools: Student Session- Saint Andrew's School
DESCRIPTION:The Make Our Schools Safe (MOSS) Club at Saint Andrew’s School has invited Guardian Defense to speak to their high school students. The session titled\, “IDK\, But is Anywhere Safe Anymore?” will be presented so students understand their role in the safety of themselves\, their school and their community. \n  \n>>CLOSED EVENT<<
URL:https://guardiandefenseplan.com/event/active-threat-response-program-for-schools-student-session-saint-andrews-school/
LOCATION:Saint Andrew’s School\, Boca Raton\, FL
END:VEVENT
BEGIN:VEVENT
DTSTART;TZID=UTC:20211206T000000
DTEND;TZID=UTC:20211206T000000
DTSTAMP:20260421T124241
CREATED:20250827T133039Z
LAST-MODIFIED:20250827T133039Z
UID:13488-1638748800-1638748800@guardiandefenseplan.com
SUMMARY:Active Threat Response Program (ATRP)- Woodfield Boca Raton
DESCRIPTION:The Active Threat Response Program for Businesses (ATRPB) will begin with administration at Woodfield Boca Raton. \n>>CLOSED PROGRAM<<
URL:https://guardiandefenseplan.com/event/active-threat-response-program-atrp-woodfield-boca-raton/
LOCATION:Woodfield Boca Raton in Boca Raton\, FL
END:VEVENT
BEGIN:VEVENT
DTSTART;TZID=UTC:20211122T083000
DTEND;TZID=UTC:20211122T123000
DTSTAMP:20260421T124241
CREATED:20250827T133029Z
LAST-MODIFIED:20250827T133029Z
UID:13487-1637569800-1637584200@guardiandefenseplan.com
SUMMARY:Firearms Training for Security Officers- Carbine II: CAMBRIDGE SECURITY SERVICES
DESCRIPTION:The Firearms Training for Security Officers: Carbine II course is a half-day course designed to provide Participants with the knowledge and safety protocols to properly operate a firearm while in the workplace. This course is a follow up to Firearms Training for Security Officers: Carbine I and Participants must have completed Carbine I before attending this course. \n>>CLOSED COURSE<<
URL:https://guardiandefenseplan.com/event/firearms-training-for-security-officers-carbine-ii-cambridge-security-services/
LOCATION:Cambridge Security Services in Osteen\, FL
END:VEVENT
BEGIN:VEVENT
DTSTART;TZID=UTC:20211020T130000
DTEND;TZID=UTC:20211020T160000
DTSTAMP:20260421T124241
CREATED:20250827T132909Z
LAST-MODIFIED:20250827T132909Z
UID:13443-1634734800-1634745600@guardiandefenseplan.com
SUMMARY:Active Threat Response Program for Businesses (ATRPB): Part I- City of Tamarac
DESCRIPTION:Session 15 of 15 \nPart I of the Active Threat Response Program for Businesses (ATRPB) will be implemented to team members at the City of Tamarac. \n>>CLOSED EVENT<<
URL:https://guardiandefenseplan.com/event/active-threat-response-program-for-businesses-atrpb-part-i-city-of-tamarac-12/
LOCATION:City of Tamarac (Webinar)
END:VEVENT
BEGIN:VEVENT
DTSTART;TZID=UTC:20211020T090000
DTEND;TZID=UTC:20211020T120000
DTSTAMP:20260421T124241
CREATED:20250827T132853Z
LAST-MODIFIED:20250827T132853Z
UID:13442-1634720400-1634731200@guardiandefenseplan.com
SUMMARY:Active Threat Response Program for Businesses (ATRPB): Part I- City of Tamarac
DESCRIPTION:Session 14 of 15 \nPart I of the Active Threat Response Program for Businesses (ATRPB) will be implemented to team members at the City of Tamarac. \n>>CLOSED EVENT<<
URL:https://guardiandefenseplan.com/event/active-threat-response-program-for-businesses-atrpb-part-i-city-of-tamarac-11/
LOCATION:City of Tamarac (Webinar)
END:VEVENT
BEGIN:VEVENT
DTSTART;TZID=UTC:20211011T080000
DTEND;TZID=UTC:20211011T150000
DTSTAMP:20260421T124241
CREATED:20250827T133009Z
LAST-MODIFIED:20250827T133009Z
UID:13474-1633939200-1633964400@guardiandefenseplan.com
SUMMARY:Active Threat Response Program (ATRP)- Cambridge Christian School
DESCRIPTION:A condensed version of the full-day Active Threat Response Program for Schools (ATRPS) will be implemented to the staff at Cambridge Christian School.\n\n>>CLOSED EVENT<<
URL:https://guardiandefenseplan.com/event/active-threat-response-program-atrp-cambridge-christian-school/
LOCATION:Cambridge Christian School\, Tampa\, FL
END:VEVENT
BEGIN:VEVENT
DTSTART;TZID=UTC:20210819T083000
DTEND;TZID=UTC:20210819T130000
DTSTAMP:20260421T124241
CREATED:20250827T133009Z
LAST-MODIFIED:20250827T133009Z
UID:13476-1629361800-1629378000@guardiandefenseplan.com
SUMMARY:Active Threat Response Program for Schools (ATRPS)- Katz Hillel Day School
DESCRIPTION:A half-day refresher of the Active Threat Response Program for Schools (ATRPS) will be taught to the employees at Katz Hillel Day School. \n>>CLOSED EVENT<<
URL:https://guardiandefenseplan.com/event/active-threat-response-program-for-schools-atrps-katz-hillel-day-school/
LOCATION:Katz Hillel Day School\, Boca Raton\, FL
END:VEVENT
BEGIN:VEVENT
DTSTART;TZID=UTC:20210816T123000
DTEND;TZID=UTC:20210816T170000
DTSTAMP:20260421T124241
CREATED:20250827T133019Z
LAST-MODIFIED:20250827T133019Z
UID:13481-1629117000-1629133200@guardiandefenseplan.com
SUMMARY:ACTIVE THREAT RESPONSE PROGRAM (ATRP)- Downtown Jewish Preschool
DESCRIPTION:The condensed\, 4.5-hour version of the Active Threat Response Program for Schools (ATRPS) will be implemented to the staff at Downtown Jewish Preschool.\n\n>>CLOSED EVENT<<
URL:https://guardiandefenseplan.com/event/active-threat-response-program-atrp-downtown-jewish-preschool-2/
LOCATION:Downtown Jewish Preschool\, Fort Lauderdale\, FL
END:VEVENT
BEGIN:VEVENT
DTSTART;TZID=UTC:20210813T120000
DTEND;TZID=UTC:20210813T160000
DTSTAMP:20260421T124241
CREATED:20250827T133029Z
LAST-MODIFIED:20250827T133029Z
UID:13485-1628856000-1628870400@guardiandefenseplan.com
SUMMARY:Trauma And Casualty Care for Civilians Phase II- Saint Andrew's School
DESCRIPTION:Session 2 of 2: \nAfter viewing the virtual Trauma And Casualty Care for Civilians (TACCC) course\, staff at Saint Andrew’s School will participate in Phase II: “Skills Session” where they will be tested on 3 primary tools in their trauma kits: tourniquet\, hemostatic dressing\, and chest seal. \n>>CLOSED EVENT<<
URL:https://guardiandefenseplan.com/event/trauma-and-casualty-care-for-civilians-phase-ii-saint-andrews-school-2/
LOCATION:Saint Andrew’s School\, Boca Raton\, FL
END:VEVENT
BEGIN:VEVENT
DTSTART;TZID=UTC:20210812T120000
DTEND;TZID=UTC:20210812T160000
DTSTAMP:20260421T124241
CREATED:20250827T133029Z
LAST-MODIFIED:20250827T133029Z
UID:13484-1628769600-1628784000@guardiandefenseplan.com
SUMMARY:Trauma And Casualty Care for Civilians Phase II- Saint Andrew's School
DESCRIPTION:Session 1 of 2: \nAfter viewing the virtual Trauma And Casualty Care for Civilians (TACCC) course\, staff at Saint Andrew’s School will participate in Phase II: “Skills Session” where they will be tested on 3 primary tools in their trauma kits: tourniquet\, hemostatic dressing\, and chest seal. \n>>CLOSED EVENT<<
URL:https://guardiandefenseplan.com/event/trauma-and-casualty-care-for-civilians-phase-ii-saint-andrews-school/
LOCATION:Saint Andrew’s School\, Boca Raton\, FL
END:VEVENT
BEGIN:VEVENT
DTSTART;TZID=UTC:20210812T080000
DTEND;TZID=UTC:20210812T093000
DTSTAMP:20260421T124241
CREATED:20250827T133029Z
LAST-MODIFIED:20250827T133029Z
UID:13483-1628755200-1628760600@guardiandefenseplan.com
SUMMARY:Active Threat Response Program for Schools (ATRPS): Staff Refresher- Saint Andrew's School
DESCRIPTION:Staff refresher training of the Active Threat Response Program for Schools (ATRPS) will be implemented to the staff at Saint Andrew’s School. \n>>CLOSED EVENT<<
URL:https://guardiandefenseplan.com/event/active-threat-response-program-for-schools-atrps-staff-refresher-saint-andrews-school-4/
LOCATION:Saint Andrew’s School\, Boca Raton\, FL
END:VEVENT
BEGIN:VEVENT
DTSTART;TZID=UTC:20210806T090000
DTEND;TZID=UTC:20210806T120000
DTSTAMP:20260421T124241
CREATED:20250827T133020Z
LAST-MODIFIED:20250827T133020Z
UID:13482-1628240400-1628251200@guardiandefenseplan.com
SUMMARY:ACTIVE THREAT RESPONSE PROGRAM (ATRP)- St. Paul Lutheran School
DESCRIPTION:The Active Threat Response Program for Schools (ATRPS) will be taught to new hires at St. Paul Lutheran School. New hires will also receive an overview of the Trauma And Casualty Care for Civilians (TACCC) course to coincide with trauma kits on site. \n>>CLOSED EVENT<<
URL:https://guardiandefenseplan.com/event/active-threat-response-program-atrp-st-paul-lutheran-school-2/
LOCATION:St. Paul Lutheran School\, Boca Raton\, FL
END:VEVENT
BEGIN:VEVENT
DTSTART;TZID=UTC:20210723T083000
DTEND;TZID=UTC:20210723T093000
DTSTAMP:20260421T124241
CREATED:20250827T133019Z
LAST-MODIFIED:20250827T133019Z
UID:13480-1627029000-1627032600@guardiandefenseplan.com
SUMMARY:3 “Must-Dos” to Building an Effective Active Shooter Plan for your Organization- Boca Chamber Women's Council
DESCRIPTION:GD Vice President\, Taylor L. Smith\, will be presenting “3 “Must-Dos” to Building an Effective Active Shooter Plan for your Organization” to Boca Raton Chamber of Commerce Women’s Business Council members. \nMembers can >>register here<< \n 
URL:https://guardiandefenseplan.com/event/3-must-dos-to-building-an-effective-active-shooter-plan-for-your-organization-boca-chamber-womens-council/
LOCATION:Virtual
END:VEVENT
BEGIN:VEVENT
DTSTART;TZID=UTC:20210623T080000
DTEND;TZID=UTC:20210623T120000
DTSTAMP:20260421T124241
CREATED:20250827T132839Z
LAST-MODIFIED:20250827T132839Z
UID:13435-1624435200-1624449600@guardiandefenseplan.com
SUMMARY:Keynote Speaker: Steven S. Smith at the 2021 SEPLA Conference
DESCRIPTION:Due to COVID-19\, this conference has been rescheduled for June 22\, 2021 – June 24\, 2021.  \nGuardian Defense President and Co-Founder\, Steven S. Smith\, will be the keynote speaker at the 2021 SEPLA (Schools\, Education\, Police Liaison Association) Conference. \nTo register or find out more about this conference\, please visit  this link
URL:https://guardiandefenseplan.com/event/keynote-speaker-steven-s-smith-at-the-2021-sepla-conference/
LOCATION:Comfort Inn and Suites Conference Center. Mount Pleasant\, MI
END:VEVENT
BEGIN:VEVENT
DTSTART;TZID=UTC:20210621T090000
DTEND;TZID=UTC:20210621T120000
DTSTAMP:20260421T124241
CREATED:20250827T133019Z
LAST-MODIFIED:20250827T133019Z
UID:13478-1624266000-1624276800@guardiandefenseplan.com
SUMMARY:Trauma And Casualty Care for Civilians- Saint Andrew's School
DESCRIPTION:Lead Instructor\, Bobby Smith\, will be filming the Trauma And Casualty Care for Civilians (TACCC) course for staff at Saint Andrew’s School. The recording will be presented in e-learning format. Staff will receive a mixture of lecture-style training mixed with practical application recordings utilizing the trauma tools available on campus. \n>>CLOSED EVENT<<
URL:https://guardiandefenseplan.com/event/trauma-and-casualty-care-for-civilians-saint-andrews-school/
LOCATION:Saint Andrew’s School (E-Learning)
END:VEVENT
BEGIN:VEVENT
DTSTART;TZID=UTC:20210614T130000
DTEND;TZID=UTC:20210614T143000
DTSTAMP:20260421T124241
CREATED:20250827T133009Z
LAST-MODIFIED:20250827T133009Z
UID:13475-1623675600-1623681000@guardiandefenseplan.com
SUMMARY:Active Threat Response Program for Schools (ATRPS)- Tamarac Summer Camp Staff
DESCRIPTION:The Active Threat Response Program for Schools (ATRPS) session will be implemented to the summer camp staff at City of Tamarac. \n>>CLOSED EVENT<<
URL:https://guardiandefenseplan.com/event/active-threat-response-program-for-schools-atrps-tamarac-summer-camp-staff-2/
LOCATION:City of Tamarac\, Tamarac\, FL
END:VEVENT
BEGIN:VEVENT
DTSTART;TZID=UTC:20210608T083000
DTEND;TZID=UTC:20210608T123000
DTSTAMP:20260421T124241
CREATED:20250827T133010Z
LAST-MODIFIED:20250827T133029Z
UID:13477-1623141000-1623155400@guardiandefenseplan.com
SUMMARY:Firearms Training for Security Officers- Pistol: CAMBRIDGE SECURITY SERVICES
DESCRIPTION:The Firearms Training for Security Officers: Pistols course is a half-day course designed to provide Participants with the knowledge and safety protocols to properly operate a firearm while in the workplace. \n>>CLOSED COURSE<<
URL:https://guardiandefenseplan.com/event/firearms-training-for-security-officers-pistol-cambridge-security-services/
LOCATION:Cambridge Security Services in Osteen\, FL
END:VEVENT
BEGIN:VEVENT
DTSTART;TZID=UTC:20210524T090000
DTEND;TZID=UTC:20210524T121500
DTSTAMP:20260421T124241
CREATED:20250827T133009Z
LAST-MODIFIED:20250827T133009Z
UID:13473-1621846800-1621858500@guardiandefenseplan.com
SUMMARY:Active Threat Response Program- The Breakers
DESCRIPTION:Session 7 of 7: \nGuardian Defense President\, Steven S. Smith\, will be presenting the Active Threat Response Program for Businesses to team members at The Breakers Resort. \nThis course will include: \n\nWorkplace Violence Prevention\nActive Threat Response\n\n>>CLOSED EVENT<<
URL:https://guardiandefenseplan.com/event/active-threat-response-program-the-breakers-7/
LOCATION:The Breakers (Webinar)
END:VEVENT
BEGIN:VEVENT
DTSTART;TZID=UTC:20210517T090000
DTEND;TZID=UTC:20210517T121500
DTSTAMP:20260421T124241
CREATED:20250827T133000Z
LAST-MODIFIED:20250827T133000Z
UID:13472-1621242000-1621253700@guardiandefenseplan.com
SUMMARY:Active Threat Response Program- The Breakers
DESCRIPTION:Session 6 of 7: \nGuardian Defense President\, Steven S. Smith\, will be presenting the Active Threat Response Program for Businesses to team members at The Breakers Resort. \nThis course will include: \n\nWorkplace Violence Prevention\nActive Threat Response\n\n>>CLOSED EVENT<<
URL:https://guardiandefenseplan.com/event/active-threat-response-program-the-breakers-6/
LOCATION:The Breakers (Webinar)
END:VEVENT
BEGIN:VEVENT
DTSTART;TZID=UTC:20210510T140000
DTEND;TZID=UTC:20210510T171500
DTSTAMP:20260421T124241
CREATED:20250827T133000Z
LAST-MODIFIED:20250827T133000Z
UID:13471-1620655200-1620666900@guardiandefenseplan.com
SUMMARY:Active Threat Response Program- The Breakers
DESCRIPTION:Session 5 of 7: \nGuardian Defense President\, Steven S. Smith\, will be presenting the Active Threat Response Program for Businesses to team members at The Breakers Resort. \nThis course will include: \n\nWorkplace Violence Prevention\nActive Threat Response\n\n>>CLOSED EVENT<<
URL:https://guardiandefenseplan.com/event/active-threat-response-program-the-breakers-5/
LOCATION:The Breakers (Webinar)
END:VEVENT
BEGIN:VEVENT
DTSTART;TZID=UTC:20210507T090000
DTEND;TZID=UTC:20210507T090000
DTSTAMP:20260421T124241
CREATED:20250827T133000Z
LAST-MODIFIED:20250827T133000Z
UID:13470-1620378000-1620378000@guardiandefenseplan.com
SUMMARY:Active Threat Response Program- The Breakers
DESCRIPTION:Session 4 of 7: \nGuardian Defense President\, Steven S. Smith\, will be presenting the Active Threat Response Program for Businesses to team members at The Breakers Resort. \nThis course will include: \n\nWorkplace Violence Prevention\nActive Threat Response\n\n>>CLOSED EVENT<<
URL:https://guardiandefenseplan.com/event/active-threat-response-program-the-breakers-4/
LOCATION:The Breakers (Webinar)
END:VEVENT
BEGIN:VEVENT
DTSTART;TZID=UTC:20210429T090000
DTEND;TZID=UTC:20210429T121500
DTSTAMP:20260421T124241
CREATED:20250827T132959Z
LAST-MODIFIED:20250827T132959Z
UID:13469-1619686800-1619698500@guardiandefenseplan.com
SUMMARY:Active Threat Response Program- The Breakers
DESCRIPTION:Session 3 of 7: \nGuardian Defense President\, Steven S. Smith\, will be presenting the Active Threat Response Program for Businesses to team members at The Breakers Resort. \nThis course will include: \n\nWorkplace Violence Prevention\nActive Threat Response\n\n>>CLOSED EVENT<<
URL:https://guardiandefenseplan.com/event/active-threat-response-program-the-breakers-3/
LOCATION:The Breakers (Webinar)
END:VEVENT
BEGIN:VEVENT
DTSTART;TZID=UTC:20210426T140000
DTEND;TZID=UTC:20210426T171500
DTSTAMP:20260421T124241
CREATED:20250827T132959Z
LAST-MODIFIED:20250827T132959Z
UID:13468-1619445600-1619457300@guardiandefenseplan.com
SUMMARY:Active Threat Response Program- The Breakers
DESCRIPTION:Session 2 of 7: \nGuardian Defense President\, Steven S. Smith\, will be presenting the Active Threat Response Program for Businesses to team members at The Breakers Resort. \nThis course will include: \n\nWorkplace Violence Prevention\nActive Threat Response\n\n>>CLOSED EVENT<<
URL:https://guardiandefenseplan.com/event/active-threat-response-program-the-breakers-2/
LOCATION:The Breakers (Webinar)
END:VEVENT
BEGIN:VEVENT
DTSTART;TZID=UTC:20210412T090000
DTEND;TZID=UTC:20210412T121500
DTSTAMP:20260421T124241
CREATED:20250827T132954Z
LAST-MODIFIED:20250827T132954Z
UID:13467-1618218000-1618229700@guardiandefenseplan.com
SUMMARY:Active Threat Response Program- The Breakers
DESCRIPTION:Session 1 of 7: \nGuardian Defense President\, Steven S. Smith\, will be presenting the Active Threat Response Program for Businesses to team members at The Breakers Resort. \nThis course will include: \n\nWorkplace Violence Prevention\nActive Threat Response\n\n>>CLOSED EVENT<<
URL:https://guardiandefenseplan.com/event/active-threat-response-program-the-breakers/
LOCATION:The Breakers (Webinar)
END:VEVENT
BEGIN:VEVENT
DTSTART;TZID=UTC:20210320T080000
DTEND;TZID=UTC:20210320T180000
DTSTAMP:20260421T124241
CREATED:20250827T132954Z
LAST-MODIFIED:20250827T132954Z
UID:13466-1616227200-1616263200@guardiandefenseplan.com
SUMMARY:ACTIVE THREAT RESPONSE PROGRAM - SUNCOAST CREDIT UNION
DESCRIPTION:Filming Day 2 of 2: GD president\, Steven S. Smith\, will be presenting the Active Threat Response Program in e-learning format. Staff will receive a mixture of lecture-style training mixed with practical application recordings throughout various locations and environments at Suncoast Credit Union. \n<<CLOSED EVENT>>
URL:https://guardiandefenseplan.com/event/active-threat-response-program-suncoast-credit-union-2/
LOCATION:SCU Headquarters\, Tampa\, FL
END:VEVENT
END:VCALENDAR