BEGIN:VCALENDAR
VERSION:2.0
PRODID:-//Guardian Defense Plan - ECPv6.15.18//NONSGML v1.0//EN
CALSCALE:GREGORIAN
METHOD:PUBLISH
X-WR-CALNAME:Guardian Defense Plan
X-ORIGINAL-URL:https://guardiandefenseplan.com
X-WR-CALDESC:Events for Guardian Defense Plan
REFRESH-INTERVAL;VALUE=DURATION:PT1H
X-Robots-Tag:noindex
X-PUBLISHED-TTL:PT1H
BEGIN:VTIMEZONE
TZID:UTC
BEGIN:STANDARD
TZOFFSETFROM:+0000
TZOFFSETTO:+0000
TZNAME:UTC
DTSTART:20180101T000000
END:STANDARD
END:VTIMEZONE
BEGIN:VEVENT
DTSTART;TZID=UTC:20210125T080000
DTEND;TZID=UTC:20210125T120000
DTSTAMP:20260423T140451
CREATED:20250827T132954Z
LAST-MODIFIED:20250827T132954Z
UID:13464-1611561600-1611576000@guardiandefenseplan.com
SUMMARY:Safe Baton Techniques for Security Officers
DESCRIPTION:In this 4-hour course\, security officers will learn the safe approach and technique to utilizing a baton on a threatening individual. Instructor will teach baton nomenclature\, officer safety\, target areas\, drawing and gripping techniques\, counter-strikes and shielding\, and more. Policies will be reviewed so security officers know when they are permitted to utilize this tool. \n<<CLOSED EVENT>>
URL:https://guardiandefenseplan.com/event/safe-baton-techniques-for-security-officers-2/
LOCATION:Cambridge Security Services\, Fort Lauderdale\, FL
END:VEVENT
BEGIN:VEVENT
DTSTART;TZID=UTC:20201104T200000
DTEND;TZID=UTC:20201104T200000
DTSTAMP:20260423T140451
CREATED:20250827T132939Z
LAST-MODIFIED:20250827T132939Z
UID:13457-1604520000-1604520000@guardiandefenseplan.com
SUMMARY:SAFE SPIKE STRIP DEPLOYMENT FOR SECURITY OFFICERS: CAMBRIDGE SECURITY SERVICES
DESCRIPTION:The Safe Spike Strip Deployment for Security Officers course teaches participants in the use and function of spike strips; and how to properly deploy the equipment in a safe manner. \n>>CLOSED EVENT<< \n 
URL:https://guardiandefenseplan.com/event/safe-spike-strip-deployment-for-security-officers-cambridge-security-services/
LOCATION:Cambridge Security Services\, Palm Beach Gardens\, FL
END:VEVENT
BEGIN:VEVENT
DTSTART;TZID=UTC:20201029T090000
DTEND;TZID=UTC:20201029T123000
DTSTAMP:20260423T140451
CREATED:20250827T132949Z
LAST-MODIFIED:20250827T132949Z
UID:13458-1603962000-1603974600@guardiandefenseplan.com
SUMMARY:LESS-LETHAL MUNITIONS COURSE FOR SECURITY OFFICERS: CAMBRIDGE SECURITY SERVICES
DESCRIPTION:The Less-Lethal Munitions Course for Security Officers is a half-day course designed to provide participants with the knowledge and safety protocols to properly operate and utilize less lethal munitions. \n>>CLOSED EVENT<< \n  \n 
URL:https://guardiandefenseplan.com/event/less-lethal-munitions-course-for-security-officers-cambridge-security-services/
LOCATION:Cambridge Security Services\, Palm Beach Gardens\, FL
END:VEVENT
BEGIN:VEVENT
DTSTART;TZID=UTC:20201016T100000
DTEND;TZID=UTC:20201016T150000
DTSTAMP:20260423T140451
CREATED:20250827T132939Z
LAST-MODIFIED:20250827T132939Z
UID:13456-1602842400-1602860400@guardiandefenseplan.com
SUMMARY:Report Writing for Command Center Personnel: CAMBRIDGE SECURITY SERVICES
DESCRIPTION:The Report Writing for Command Center Personnel course is a 5-hour course designed to provide Participants with the knowledge to properly document incidents that occur while their security officers are at work. \n>>CLOSED COURSE<<
URL:https://guardiandefenseplan.com/event/report-writing-for-command-center-personnel-cambridge-security-services/
LOCATION:Cambridge Security Services in Fort Lauderdale\, FL
END:VEVENT
BEGIN:VEVENT
DTSTART;TZID=UTC:20201002T083000
DTEND;TZID=UTC:20201002T133000
DTSTAMP:20260423T140451
CREATED:20250827T132939Z
LAST-MODIFIED:20250827T132939Z
UID:13455-1601627400-1601645400@guardiandefenseplan.com
SUMMARY:Firearms Training for Security Officers- Rifles: CAMBRIDGE SECURITY SERVICES
DESCRIPTION:The Firearms Training for Security Officers: Rifles course is a half-day course designed to provide Participants with the knowledge and safety protocols to properly operate a rifle firearm while in the workplace. \n>>CLOSED COURSE<<
URL:https://guardiandefenseplan.com/event/firearms-training-for-security-officers-rifles-cambridge-security-services/
LOCATION:Cambridge Security Services in Osteen\, FL
END:VEVENT
BEGIN:VEVENT
DTSTART;TZID=UTC:20200929T090000
DTEND;TZID=UTC:20200929T143000
DTSTAMP:20260423T140451
CREATED:20250827T132939Z
LAST-MODIFIED:20250827T132939Z
UID:13454-1601370000-1601389800@guardiandefenseplan.com
SUMMARY:Effective Communication for Security Officers: Cambridge Security Services
DESCRIPTION:The Effective Communication for Security Officers: Human Diversity\, Conflict Resolution & De-Escalation is a five-hour course designed to provide Participants with the awareness and knowledge needed to effectively communicate with the public\, clients and peers within the workplace.\n\n>>CLOSED EVENT<<
URL:https://guardiandefenseplan.com/event/effective-communication-for-security-officers-cambridge-security-services-2/
LOCATION:Cambridge Security Services\, Fort Lauderdale\, FL
END:VEVENT
BEGIN:VEVENT
DTSTART;TZID=UTC:20200917T160000
DTEND;TZID=UTC:20200917T170000
DTSTAMP:20260423T140451
CREATED:20250827T132924Z
LAST-MODIFIED:20250827T133643Z
UID:13452-1600358400-1600362000@guardiandefenseplan.com
SUMMARY:Interview: Steven S. Smith\, The Shrimp Tank Podcast
DESCRIPTION:Steve will be interviewed during the Nationally Syndicated Shrimp Tank radio/podcast show on September 17th from 4:00pm – 5:00pm. \nJoin us for the live recording or visit later to hear all the great thing Steve and Guardian Defense are doing! Shrimp Tank Podcast
URL:https://guardiandefenseplan.com/event/interview-steven-s-smith-the-shrimp-tank-podcast-2/
LOCATION:Florida Atlantic University\, Boca Raton\, FL
END:VEVENT
BEGIN:VEVENT
DTSTART;TZID=UTC:20200915T090000
DTEND;TZID=UTC:20200915T143000
DTSTAMP:20260423T140451
CREATED:20250827T132939Z
LAST-MODIFIED:20250827T132939Z
UID:13453-1600160400-1600180200@guardiandefenseplan.com
SUMMARY:Effective Communication for Security Officers: Cambridge Security Services
DESCRIPTION:The Effective Communication for Security Officers: Human Diversity\, Conflict Resolution & De-Escalation is a five-hour course designed to provide Participants with the awareness and knowledge needed to effectively communicate with the public\, clients and peers within the workplace.\n\n>>CLOSED EVENT<<
URL:https://guardiandefenseplan.com/event/effective-communication-for-security-officers-cambridge-security-services/
LOCATION:Cambridge Security Services\, Fort Lauderdale\, FL
END:VEVENT
BEGIN:VEVENT
DTSTART;TZID=UTC:20200817T103000
DTEND;TZID=UTC:20200817T123000
DTSTAMP:20260423T140451
CREATED:20250827T132924Z
LAST-MODIFIED:20250827T132924Z
UID:13450-1597660200-1597667400@guardiandefenseplan.com
SUMMARY:ACTIVE THREAT RESPONSE PROGRAM (ATRP)- Downtown Jewish Preschool
DESCRIPTION:A refresher of the Active Threat Response Program for Schools (ATRPS) will be implemented to the staff at Downtown Jewish Preschool.\n\n>>CLOSED EVENT<<
URL:https://guardiandefenseplan.com/event/active-threat-response-program-atrp-downtown-jewish-preschool/
LOCATION:Downtown Jewish Preschool\, Fort Lauderdale\, FL
END:VEVENT
BEGIN:VEVENT
DTSTART;TZID=UTC:20200815T100000
DTEND;TZID=UTC:20200815T183000
DTSTAMP:20260423T140451
CREATED:20250827T132924Z
LAST-MODIFIED:20250827T132924Z
UID:13451-1597485600-1597516200@guardiandefenseplan.com
SUMMARY:SOASRC-Security Teams Level I: Cambridge Security Services
DESCRIPTION:GD instructors will be teaching Level I of the Single Officer Active Shooter Response Course for Security Teams (SOASRC-ST) to security officers at Cambridge Security Services. \n<<CLOSED EVENT>>
URL:https://guardiandefenseplan.com/event/soasrc-security-teams-level-i-cambridge-security-services/
LOCATION:Cambridge Security Services\, Fort Lauderdale\, FL
END:VEVENT
BEGIN:VEVENT
DTSTART;TZID=UTC:20200814T080000
DTEND;TZID=UTC:20200814T120000
DTSTAMP:20260423T140451
CREATED:20250827T132924Z
LAST-MODIFIED:20250827T132924Z
UID:13448-1597392000-1597406400@guardiandefenseplan.com
SUMMARY:Active Threat Response Program Refresher- Saint Andrew's School
DESCRIPTION:GD president\, Steven S. Smith\, will be presenting a refresher course of the Active Threat Response Program to staff at Saint Andrew’s School in e-learning format. Staff will receive a mixture of lecture-style training mixed with practical application recordings throughout various locations on campus. \n>>CLOSED EVENT<<
URL:https://guardiandefenseplan.com/event/active-threat-response-program-refresher-saint-andrews-school/
LOCATION:Saint Andrew’s School (E-Learning)
END:VEVENT
BEGIN:VEVENT
DTSTART;TZID=UTC:20200813T113000
DTEND;TZID=UTC:20200813T130000
DTSTAMP:20260423T140451
CREATED:20250827T132909Z
LAST-MODIFIED:20250827T132909Z
UID:13447-1597318200-1597323600@guardiandefenseplan.com
SUMMARY:Workplace Security & Safety Planning to Protect Your Organization- MTM Transit
DESCRIPTION:GD President\, Steven S. Smith\, will be presenting “Workplace Security & Safety Planning to Protect Your Organization” to upper management at MTM Transit. \n>>CLOSED EVENT<<
URL:https://guardiandefenseplan.com/event/workplace-security-safety-planning-to-protect-your-organization-mtm-transit/
LOCATION:MTM Transit (Webinar)
END:VEVENT
BEGIN:VEVENT
DTSTART;TZID=UTC:20200812T090000
DTEND;TZID=UTC:20200812T133000
DTSTAMP:20260423T140451
CREATED:20250827T132924Z
LAST-MODIFIED:20250827T132924Z
UID:13449-1597222800-1597239000@guardiandefenseplan.com
SUMMARY:ACTIVE THREAT RESPONSE PROGRAM (ATRP)- New Hope Christian School
DESCRIPTION:A condensed version of the full-day Active Threat Response Program for Schools (ATRPS) will be implemented to the staff at New Hope Christian School.\n\n>>CLOSED EVENT<<
URL:https://guardiandefenseplan.com/event/active-threat-response-program-atrp-new-hope-christian-school/
LOCATION: New Hope Christian School\, Fort Lauderdale\, FL
END:VEVENT
BEGIN:VEVENT
DTSTART;TZID=UTC:20200804T120000
DTEND;TZID=UTC:20200804T150000
DTSTAMP:20260423T140451
CREATED:20250827T132909Z
LAST-MODIFIED:20250827T132909Z
UID:13445-1596542400-1596553200@guardiandefenseplan.com
SUMMARY:TRAUMA AND CASUALTY CARE FOR CIVILIANS: St. Paul Lutheran School
DESCRIPTION:Session 2 of 2: \nGuardian Defense Lead Instructor\, Bobby Smith\,  will be teaching: The Trauma And Casualty Care for Civilians (TACCC) Course to staff at St. Paul Lutheran School. \n>>CLOSED EVENT<<
URL:https://guardiandefenseplan.com/event/trauma-and-casualty-care-for-civilians-st-paul-lutheran-school-2/
LOCATION:St. Paul Lutheran School\, Boca Raton\, FL
END:VEVENT
BEGIN:VEVENT
DTSTART;TZID=UTC:20200804T083000
DTEND;TZID=UTC:20200804T160000
DTSTAMP:20260423T140451
CREATED:20250827T132909Z
LAST-MODIFIED:20250827T132909Z
UID:13446-1596529800-1596556800@guardiandefenseplan.com
SUMMARY:ACTIVE THREAT RESPONSE PROGRAM (ATRP)- St. Paul Lutheran School
DESCRIPTION:The day will include a refresher of the Active Threat Response Program (ATRP) to the staff at St. Paul Lutheran School\, as well as a specific training for the Safety Team. \n>>CLOSED EVENT<<
URL:https://guardiandefenseplan.com/event/active-threat-response-program-atrp-st-paul-lutheran-school/
LOCATION:St. Paul Lutheran School\, Boca Raton\, FL
END:VEVENT
BEGIN:VEVENT
DTSTART;TZID=UTC:20200804T083000
DTEND;TZID=UTC:20200804T113000
DTSTAMP:20260423T140451
CREATED:20250827T132909Z
LAST-MODIFIED:20250827T132909Z
UID:13444-1596529800-1596540600@guardiandefenseplan.com
SUMMARY:TRAUMA AND CASUALTY CARE FOR CIVILIANS: St. Paul Lutheran School
DESCRIPTION:Session 1 of 2: \nGuardian Defense Lead Instructor\, Bobby Smith\,  will be teaching: The Trauma And Casualty Care for Civilians (TACCC) Course to staff at St. Paul Lutheran School. \n>>CLOSED EVENT<<
URL:https://guardiandefenseplan.com/event/trauma-and-casualty-care-for-civilians-st-paul-lutheran-school/
LOCATION:St. Paul Lutheran School\, Boca Raton\, FL
END:VEVENT
BEGIN:VEVENT
DTSTART;TZID=UTC:20200413T140000
DTEND;TZID=UTC:20200413T171500
DTSTAMP:20260423T140451
CREATED:20250827T132852Z
LAST-MODIFIED:20250827T132852Z
UID:13439-1586786400-1586798100@guardiandefenseplan.com
SUMMARY:Active Threat Response Program for Businesses (ATRPB): The Breakers Resort
DESCRIPTION:Guardian Defense President\, Steve Smith\, will be presenting the Active Threat Response Program for Businesses to team members at The Breakers Resort. \n>>CLOSED EVENT<<
URL:https://guardiandefenseplan.com/event/active-threat-response-program-for-businesses-atrpb-the-breakers-resort/
LOCATION:The Breakers Resort
END:VEVENT
BEGIN:VEVENT
DTSTART;TZID=UTC:20200323T090000
DTEND;TZID=UTC:20200323T164500
DTSTAMP:20260423T140451
CREATED:20250827T132853Z
LAST-MODIFIED:20250827T132853Z
UID:13441-1584954000-1584981900@guardiandefenseplan.com
SUMMARY:ACTIVE THREAT RESPONSE PROGRAM (ATRP): FULL-DAY REFRESHER- Junior Achievement of South Florida
DESCRIPTION:The full-day refresher Active Threat Response Program (ATRP) will be implemented to the staff at Junior Achievement of South Florida. \n>>CLOSED EVENT<<
URL:https://guardiandefenseplan.com/event/active-threat-response-program-atrp-full-day-refresher-junior-achievement-of-south-florida-2/
LOCATION:Junior Achievement of South Florida\, Coconut Creak\, FL
END:VEVENT
BEGIN:VEVENT
DTSTART;TZID=UTC:20200317T160000
DTEND;TZID=UTC:20200317T170000
DTSTAMP:20260423T140451
CREATED:20250827T132839Z
LAST-MODIFIED:20250827T132839Z
UID:13436-1584460800-1584464400@guardiandefenseplan.com
SUMMARY:Interview: Steven S. Smith\, The Shrimp Tank Podcast
DESCRIPTION:Steve will be interviewed during the Nationally Syndicated Shrimp Tank radio/podcast show on March 17th from 4:00pm-5:00pm. \nJoin us for the live recording or visit later to hear all the great thing Steve and Guardian Defense are doing! Shrimp Tank Podcast
URL:https://guardiandefenseplan.com/event/interview-steven-s-smith-the-shrimp-tank-podcast/
END:VEVENT
BEGIN:VEVENT
DTSTART;TZID=UTC:20200228T133000
DTEND;TZID=UTC:20200228T163000
DTSTAMP:20260423T140451
CREATED:20250827T132852Z
LAST-MODIFIED:20250827T132852Z
UID:13438-1582896600-1582907400@guardiandefenseplan.com
SUMMARY:Trauma and Casualty Care for Civilians:  The Breakers Resort
DESCRIPTION:Guardian Defense Lead Instructor\, Bobby Smith\,  will be teaching: The Trauma And Casualty Care for Civilians (TACCC) Course to team members at The Breakers Resort. \n>>CLOSED EVENT<<
URL:https://guardiandefenseplan.com/event/trauma-and-casualty-care-for-civilians-the-breakers-resort/
LOCATION:The Breakers\, Palm Beach\, FL
END:VEVENT
BEGIN:VEVENT
DTSTART;TZID=UTC:20200215T100000
DTEND;TZID=UTC:20200215T180000
DTSTAMP:20260423T140451
CREATED:20250827T132852Z
LAST-MODIFIED:20250827T132852Z
UID:13440-1581760800-1581789600@guardiandefenseplan.com
SUMMARY:3rd Annual Marjory Stoneman Douglas High School Charity Golf Tournament
DESCRIPTION:Guardian Defense is proud to announce it will be a Platinum sponsor at the 3rd Annual Marjory Stoneman Douglas High School Charity Golf Tournament which will raise funds for the victims\, their families and the MSD community. \nGuardian Defense president and friends of GD will be present and participating in a foursome team for the golf tournament. \nPlease show your support by donating an item to the auction!! \nFor more information\, please >>click here<<. \n  \nPhotos from the 2nd Annual MSD High School Charity Golf Tournament\n \n  \n  \n  \n  \n  \n  \n  \n  \n \n  \n  \n  \n  \n  \n 
URL:https://guardiandefenseplan.com/event/3rd-annual-marjory-stoneman-douglas-high-school-charity-golf-tournament/
LOCATION:Country Club of Coral Springs\, Coral Springs\, FL
END:VEVENT
BEGIN:VEVENT
DTSTART;TZID=UTC:20200214T080000
DTEND;TZID=UTC:20200214T143000
DTSTAMP:20260423T140451
CREATED:20250827T132839Z
LAST-MODIFIED:20250827T132839Z
UID:13437-1581667200-1581690600@guardiandefenseplan.com
SUMMARY:ACTIVE THREAT RESPONSE PROGRAM FOR SCHOOLS (ATRPS): Bethalto Public School District
DESCRIPTION:Through our partnership with Blue Refuge\, we will deliver the Active Threat Response Program for Schools (ATRPS) to the staff at all 5 schools within the Bethalto Public School District in Bethalto\, IL. \n\nMeadowbrook Intermediate School\nParkside Primary School\nBethalto East Primary School\nTrimpe Middle School\nCivic Memorial High\n\n>>CLOSED EVENT<<
URL:https://guardiandefenseplan.com/event/active-threat-response-program-for-schools-atrps-bethalto-public-school-district/
LOCATION:Civic Memorial High School. 200 School Street. Bethalto\, IL 62010
END:VEVENT
BEGIN:VEVENT
DTSTART;TZID=UTC:20200113T090000
DTEND;TZID=UTC:20200116T170000
DTSTAMP:20260423T140451
CREATED:20250827T132824Z
LAST-MODIFIED:20250827T132824Z
UID:13431-1578906000-1579194000@guardiandefenseplan.com
SUMMARY:ACTIVE THREAT RESPONSE PROGRAM FOR BUSINESSES (ATRPB): Grow Financial Federal Credit Union
DESCRIPTION:The Active Threat Response Program for Businesses (ATRPB) will be implemented to team members at Grow Financial Federal Credit Union over a series of days. \n>>CLOSED EVENT<<
URL:https://guardiandefenseplan.com/event/active-threat-response-program-for-businesses-atrpb-grow-financial-federal-credit-union/
LOCATION:Grow Financial Federal Credit Union\, Tampa\, FL
END:VEVENT
BEGIN:VEVENT
DTSTART;TZID=UTC:20191218T080000
DTEND;TZID=UTC:20191218T123000
DTSTAMP:20260423T140451
CREATED:20250827T132839Z
LAST-MODIFIED:20250827T132839Z
UID:13434-1576656000-1576672200@guardiandefenseplan.com
SUMMARY:ACTIVE THREAT RESPONSE PROGRAM FOR BUSINESSES (ATRPB) PART II- City of Pompano Beach
DESCRIPTION:Part II of the Active Threat Response Program for Businesses (ATRPB) Mock Scenarios will be implemented to the employees at the City of Pompano Beach. \n>>CLOSED EVENT<<
URL:https://guardiandefenseplan.com/event/active-threat-response-program-for-businesses-atrpb-part-ii-city-of-pompano-beach-2/
LOCATION:City of Pompano\, Pompano Beach\, FL
END:VEVENT
BEGIN:VEVENT
DTSTART;TZID=UTC:20191216T154500
DTEND;TZID=UTC:20191216T171500
DTSTAMP:20260423T140451
CREATED:20250827T132811Z
LAST-MODIFIED:20250827T132812Z
UID:13422-1576511100-1576516500@guardiandefenseplan.com
SUMMARY:Speaker Presentation: Terror in the Workplace for New Hires- The Breakers Resort
DESCRIPTION:Guardian Defense president\, Steven S. Smith\,  will be presenting: Terror in the Workplace: Five Immediate Actions You Must Know When Confronted By An Active Shooter to new hires at The Breakers. \n>>CLOSED EVENT<<
URL:https://guardiandefenseplan.com/event/speaker-presentation-terror-in-the-workplace-for-new-hires-the-breakers-resort-7/
LOCATION:The Breakers\, Palm Beach\, FL
END:VEVENT
BEGIN:VEVENT
DTSTART;TZID=UTC:20191216T140000
DTEND;TZID=UTC:20191216T153000
DTSTAMP:20260423T140451
CREATED:20250827T132811Z
LAST-MODIFIED:20250827T132812Z
UID:13420-1576504800-1576510200@guardiandefenseplan.com
SUMMARY:Speaker Presentation: Workplace Violence Prevention for New Hires- The Breakers Resort
DESCRIPTION:Guardian Defense president\, Steven S. Smith\, will be presenting: Workplace Violence Prevention to new hires at The Breakers. \n>>CLOSED EVENT<<
URL:https://guardiandefenseplan.com/event/speaker-presentation-workplace-violence-prevention-for-new-hires-the-breakers-resort-6/
LOCATION:The Breakers\, Palm Beach\, FL
END:VEVENT
BEGIN:VEVENT
DTSTART;TZID=UTC:20191205T120000
DTEND;TZID=UTC:20191205T133000
DTSTAMP:20260423T140451
CREATED:20250827T132824Z
LAST-MODIFIED:20250827T132824Z
UID:13430-1575547200-1575552600@guardiandefenseplan.com
SUMMARY:SPEAKER PRESENTATION: TERROR IN THE WORKPLACE- Total Marine Solutions
DESCRIPTION:Guardian Defense will be presenting: Terror in the Workplace: Five Immediate Actions You Must Know When Confronted By An Active Threat to team members at Total Marine Solutions. \n>>CLOSED EVENT<<
URL:https://guardiandefenseplan.com/event/speaker-presentation-terror-in-the-workplace-total-marine-solutions/
LOCATION:Total Marine Solutions\, Fort Lauderdale\, FL
END:VEVENT
BEGIN:VEVENT
DTSTART;TZID=UTC:20191121T140000
DTEND;TZID=UTC:20191121T150000
DTSTAMP:20260423T140451
CREATED:20250827T132824Z
LAST-MODIFIED:20250827T132824Z
UID:13432-1574344800-1574348400@guardiandefenseplan.com
SUMMARY:Active Threat Response Program for Schools (ATRPS): Drill Plan- School of Rock
DESCRIPTION:The Active Threat Response Program for Schools (ATRPS): Drill Plan will be presented to owners at School of Rock. \n>>CLOSED EVENT<<
URL:https://guardiandefenseplan.com/event/active-threat-response-program-for-schools-atrps-drill-plan-school-of-rock/
LOCATION:School of Rock- (Webinar)
END:VEVENT
BEGIN:VEVENT
DTSTART;TZID=UTC:20191115T100000
DTEND;TZID=UTC:20191115T111500
DTSTAMP:20260423T140451
CREATED:20250827T132652Z
LAST-MODIFIED:20250827T132652Z
UID:13394-1573812000-1573816500@guardiandefenseplan.com
SUMMARY:Conference Speaker: NAYS Youth Sports Congress
DESCRIPTION:Guardian Defense President and Co-Founder\, Steven S. Smith\, will be presenting the following presentation to the attendees of the NAYS Youth Sports Congress: \n  \nWhen Terror Strikes at a Youth Sporting Event: Planning and Response\n Active shooter incidents have occurred in schools\, workplaces\, cinemas\, and open-air environments\, such as concerts. Indoor and outdoor sporting events are no exception. When safety is the #1 priority of our youth\, learning how to respond to a threat while at practice or a game is critical to any program. Learn actions your coaches must take if confronted with a potentially dangerous situation that will protect your athletes. Then\, learn tips to jumpstart planning efforts! \nParticipant will:\n1.    Learn the five immediate actions one must take when confronted by a threat at a sporting event or other public place \n2.    Understand how to potentially prevent an incident through situational awareness \n3.    Jumpstart planning efforts by creating an outline for written policies for a threat within your organization \n  \nTo register or find out more about this conference\, please visit >>this link<<.
URL:https://guardiandefenseplan.com/event/conference-speaker-nays-youth-sports-congress/
LOCATION:Orange County Convention Center\, Orlando\, FL
END:VEVENT
BEGIN:VEVENT
DTSTART;TZID=UTC:20191026T090000
DTEND;TZID=UTC:20191026T120000
DTSTAMP:20260423T140451
CREATED:20250827T132824Z
LAST-MODIFIED:20250827T132824Z
UID:13428-1572080400-1572091200@guardiandefenseplan.com
SUMMARY:ACTIVE THREAT RESPONSE PROGRAM FOR PLACES OF WORSHIP (ATRPW): First Baptist Church Fort Lauderdale
DESCRIPTION:The Safety Response Team portion of the Active Threat Response Program for Places of Worship (ATRPW) will be implemented to team members at First Baptist Church. \n>>CLOSED EVENT<<
URL:https://guardiandefenseplan.com/event/active-threat-response-program-for-places-of-worship-atrpw-first-baptist-church-fort-lauderdale/
LOCATION:First Baptist Church\, Fort Lauderdale\, FL
END:VEVENT
END:VCALENDAR